BEGIN:VCALENDAR
VERSION:2.0
PRODID:-//COBAN - ECPv4.9.14//NONSGML v1.0//EN
CALSCALE:GREGORIAN
METHOD:PUBLISH
X-WR-CALNAME:COBAN
X-ORIGINAL-URL:https://coban-atlantique.fr
X-WR-CALDESC:Évènements pour COBAN
BEGIN:VTIMEZONE
TZID:Europe/Paris
BEGIN:DAYLIGHT
TZOFFSETFROM:+0100
TZOFFSETTO:+0200
TZNAME:CEST
DTSTART:20260329T010000
END:DAYLIGHT
BEGIN:STANDARD
TZOFFSETFROM:+0200
TZOFFSETTO:+0100
TZNAME:CET
DTSTART:20261025T010000
END:STANDARD
END:VTIMEZONE
BEGIN:VEVENT
DTSTART;TZID=Europe/Paris:20260516T090000
DTEND;TZID=Europe/Paris:20260516T120000
DTSTAMP:20260422T101821
CREATED:20260420T060057Z
LAST-MODIFIED:20260323T095032Z
UID:123480-1778922000-1778932800@coban-atlantique.fr
SUMMARY:Fermeture exceptionnelle du LAEP de Mios
DESCRIPTION: \n  \nEn raison du pont de l’Ascension\, le LAEP de MIOS sera exceptionnellement \n  \nFERMÉ le SAMEDI 16 MAI de 9h à 12h.  \n  \n  \nL’équipe du LAEP de Mios vous remercie de votre compréhension. \n  \n\n
URL:https://coban-atlantique.fr/memento/fermeture-exceptionnelle-du-laep-de-mios-2/
LOCATION:LAEP MIOS\, Impasse de l'Abreuvoir\, MIOS\, 33380\, France
CATEGORIES:LAEP
END:VEVENT
END:VCALENDAR