BEGIN:VCALENDAR
VERSION:2.0
PRODID:-//COBAN - ECPv4.9.14//NONSGML v1.0//EN
CALSCALE:GREGORIAN
METHOD:PUBLISH
X-WR-CALNAME:COBAN
X-ORIGINAL-URL:https://coban-atlantique.fr
X-WR-CALDESC:Évènements pour COBAN
BEGIN:VTIMEZONE
TZID:Europe/Paris
BEGIN:DAYLIGHT
TZOFFSETFROM:+0100
TZOFFSETTO:+0200
TZNAME:CEST
DTSTART:20260329T010000
END:DAYLIGHT
BEGIN:STANDARD
TZOFFSETFROM:+0200
TZOFFSETTO:+0100
TZNAME:CET
DTSTART:20261025T010000
END:STANDARD
END:VTIMEZONE
BEGIN:VEVENT
DTSTART;TZID=Europe/Paris:20260515T090000
DTEND;TZID=Europe/Paris:20260515T120000
DTSTAMP:20260422T102744
CREATED:20260420T060018Z
LAST-MODIFIED:20260323T095049Z
UID:123476-1778835600-1778846400@coban-atlantique.fr
SUMMARY:Fermeture exceptionnelle du LAEP de Biganos
DESCRIPTION: \n  \nEn raison du pont de l’Ascension\, le LAEP de BIGANOS sera exceptionnellement \n  \nFERMÉ le VENDREDI 15 MAI de 9h à 12h.  \n  \n  \nL’équipe du LAEP de Biganos vous remercie de votre compréhension. \n  \n\n
URL:https://coban-atlantique.fr/memento/fermeture-exceptionnelle-du-laep-de-biganos-8/
LOCATION:LAEP BIGANOS\, Impasse de l'Etoile Filante\, BIGANOS\, GIRONDE\, 33\, France
CATEGORIES:LAEP
END:VEVENT
END:VCALENDAR